BEGIN:VCALENDAR
VERSION:2.0
PRODID:-//ChamberMaster//Event Calendar 2.0//EN
METHOD:PUBLISH
X-PUBLISHED-TTL:P3D
REFRESH-INTERVAL:P3D
CALSCALE:GREGORIAN
BEGIN:VEVENT
DTSTART:20120918T183000Z
DTEND:20120918T200000Z
X-MICROSOFT-CDO-ALLDAYEVENT:FALSE
SUMMARY:Chamber's Lunch & Learn Program Series
DESCRIPTION:Financial Literacy for Businesses and Their Employees.\n\nProvided by Consumer Credit Counseling Service of Orange County\n\n\n\nPlease join us for networking and lunch at Buca di Beppo. Representatives from Consumer Credit Counseling Service of Orange County will provide attendees with information on financial literacy and the impacts on business and their employees.\n\n\n\nDownload Program Flyer (English) \n\nDownload Program Flyer (Spanish)\n\nDownload Program Flyer (Vietnamese)\n\n\n\nTo register\, call the Chamber office at 714-6387950 or register online at: http://conta.cc/PZBpat
X-ALT-DESC;FMTTYPE=text/html:Financial Literacy for Businesses and Their Employees.<br />\nProvided by Consumer Credit Counseling Service of Orange County<br />\n<br />\nPlease join us for networking and lunch at Buca di Beppo. Representatives from Consumer Credit Counseling Service of Orange County will provide attendees with information on financial literacy and the impacts on business and their employees.<br />\n<br />\n<a href="http://cloud.chambermaster.com/userfiles/UserFiles/chambers/1315/File/GardenGroveFinancialLiteracyWorkshop-2012Sep18.jpg">Download Program Flyer (English)</a>&nbsp\;<br />\n<a href="http://cloud.chambermaster.com/userfiles/UserFiles/chambers/1315/File/GGChamberFlyer-SpanishVersion.jpg">Download Program Flyer (Spanish)</a><br />\n<a href="http://cloud.chambermaster.com/userfiles/UserFiles/chambers/1315/File/GardenGroveFinancialLiteracyWorkshop-Vietnamese.jpg">Download Program Flyer (Vietnamese)</a><br />\n<br />\nTo register\, call the Chamber office at 714-6387950 or register online at: <a href="http://conta.cc/PZBpat">http://conta.cc/PZBpat</a>
LOCATION:Buca di Beppo 11757 Harbor Blvd. Garden Grove\, CA 92840
UID:e.1315.315
SEQUENCE:3
DTSTAMP:20260426T024743Z
URL:http://member.gardengrovechamber.com/events/details/chamber-s-lunch-learn-program-series-09-18-2012-315
END:VEVENT

END:VCALENDAR
