BEGIN:VCALENDAR
VERSION:2.0
PRODID:-//ChamberMaster//Event Calendar 2.0//EN
METHOD:PUBLISH
X-PUBLISHED-TTL:P3D
REFRESH-INTERVAL:P3D
CALSCALE:GREGORIAN
BEGIN:VEVENT
DTSTART:20180210T170000Z
DTEND:20180210T230000Z
X-MICROSOFT-CDO-ALLDAYEVENT:FALSE
SUMMARY:Children's Health Fair
DESCRIPTION:Concorde Career College would like to invite you to our annual Children's Health Fair\, hosted by our Dental Hygiene program! We will have a variety of free dental services available for kids (ages 1-17). Patients will be seen on a first come\, first service basis\, but you may schedule an appointment for the day of the event by calling 714-620-1056.\n\n\n\nFree Dental Services\n\n	Dental Check-ups\n	Dental Cleanings\n	Sealants\n	X-Rays\n\nOther Activities for Kids:\n\n\n	Face Painting\n	Music\n	Educational games\n	Food & Beverages
X-ALT-DESC;FMTTYPE=text/html:Concorde Career College would like to invite you to our annual Children&#39\;s Health Fair\, hosted by our Dental Hygiene program! We will have a variety of free dental services available for kids (ages 1-17). Patients will be seen on a first come\, first service basis\, but you may schedule an appointment for the day of the event by calling 714-620-1056.<br />\n<br />\nFree Dental Services\n<ul>\n	<li>Dental Check-ups</li>\n	<li>Dental Cleanings</li>\n	<li>Sealants</li>\n	<li>X-Rays</li>\n</ul>\nOther Activities for Kids:\n\n<ul>\n	<li>Face Painting</li>\n	<li>Music</li>\n	<li>Educational games</li>\n	<li>Food &amp\; Beverages</li>\n</ul>\n
LOCATION:Concorde Career College 12951 Euclid Street Garden Grove\, CA 92840
UID:e.1315.6267
SEQUENCE:3
DTSTAMP:20260419T152427Z
URL:http://member.gardengrovechamber.com/events/details/children-s-health-fair-6267
END:VEVENT

END:VCALENDAR
