BEGIN:VCALENDAR
VERSION:2.0
PRODID:-//ChamberMaster//Event Calendar 2.0//EN
METHOD:PUBLISH
X-PUBLISHED-TTL:P3D
REFRESH-INTERVAL:P3D
CALSCALE:GREGORIAN
BEGIN:VEVENT
DTSTART:20160618T230000Z
DTEND:20160619T030000Z
X-MICROSOFT-CDO-ALLDAYEVENT:FALSE
SUMMARY:City of Garden Grove 60th Anniversary
DESCRIPTION:On Saturday\, June 18\, 2016\, join friends\, family and neighbors as the City of Garden Grove throws a community celebration six decades in the making   its 60th Anniversary!\n\nOn that exact date in 1956\, the City marked its official incorporation. This historic day was the culmination of a 40-year effort by citizens working to see Garden Grove finally achieve its much-deserved cityhood. The community was experiencing an exploding population 60 years ago\, so the need for a local government to meet the needs of the-then 40\,000 residents was crucial. Today\, nearly 200\,000 residents call Garden Grove home\, and the City's path to its 60th Anniversary has been paved with pride and progress.
X-ALT-DESC;FMTTYPE=text/html:<p style="box-sizing: border-box\; margin: 0px 0px 15px\; color: rgb(102\, 102\, 102)\; font-family: 'Open Sans'\, sans-serif\; line-height: 23px\;"><span style="color:#000000\;">On Saturday\, June 18\, 2016\, join friends\, family and neighbors as the City of Garden Grove throws a community celebration six decades in the making &ndash\; its 60th Anniversary!</span></p>\n\n<p style="box-sizing: border-box\; margin: 0px 0px 15px\; color: rgb(102\, 102\, 102)\; font-family: 'Open Sans'\, sans-serif\; line-height: 23px\;"><span style="color:#000000\;">On that exact date in 1956\, the City marked its official incorporation. This historic day was the culmination of a 40-year effort by citizens working to see Garden Grove finally achieve its much-deserved cityhood. The community was experiencing an exploding population 60 years ago\, so the need for a local government to meet the needs of the-then 40\,000 residents was crucial. Today\, nearly 200\,000 residents call Garden Grove home\, and the City&rsquo\;s path to its 60th Anniversary has been paved with pride and progress.</span></p>\n
LOCATION:Village Green Park 12732 Main Street\, Garden Grove
UID:e.1315.5124
SEQUENCE:3
DTSTAMP:20260420T220802Z
URL:http://member.gardengrovechamber.com/events/details/city-of-garden-grove-60th-anniversary-06-18-2016-5124
END:VEVENT

END:VCALENDAR
