BEGIN:VCALENDAR
VERSION:2.0
PRODID:-//ChamberMaster//Event Calendar 2.0//EN
METHOD:PUBLISH
X-PUBLISHED-TTL:P3D
REFRESH-INTERVAL:P3D
CALSCALE:GREGORIAN
BEGIN:VEVENT
DTSTART:20170811T200000Z
DTEND:20170812T020000Z
X-MICROSOFT-CDO-ALLDAYEVENT:FALSE
SUMMARY:City of Hope Blood Drive Sponsored by Garden Grove Lions Club
DESCRIPTION:City of Hope Blood Drive Sponsored by Garden Grove Lions Club\n\n\n\nBlood Drive will be part of the Main Street Garden Grove Classic Car Show!\n\n\n\nTo schedule your blood donation\, please log onto:\n\nwww.iDonateBlood4Hope.org\n\nEnter Sponsor Code: GGLC\n\n\n\n*Please bring a Photo ID*\n\nAppointments Recommended. Walk Ins Welcomed.\n\n\n\nAll Blood Donors will receive a Free LA County Fair ticket courtesy of City of Hope.
X-ALT-DESC;FMTTYPE=text/html:City of Hope Blood Drive Sponsored by Garden Grove Lions Club<br />\n<br />\nBlood Drive will be part of the Main Street Garden Grove Classic Car Show!<br />\n<br />\nTo schedule your blood donation\, please log onto:<br />\nwww.iDonateBlood4Hope.org<br />\nEnter Sponsor Code: GGLC<br />\n<br />\n*Please bring a&nbsp\;<u>Photo</u>&nbsp\;ID*<br />\nAppointments Recommended. Walk Ins Welcomed.<br />\n<br />\nAll Blood Donors will receive a Free LA County Fair ticket courtesy of City of Hope.&nbsp\;
LOCATION:City of Hope's Bloodmobile will be located next to: 102 Cafe Coffee & Tea 12908 Main Street Garden Grove\, CA 92840
UID:e.1315.6182
SEQUENCE:3
DTSTAMP:20260420T000534Z
URL:http://member.gardengrovechamber.com/events/details/city-of-hope-blood-drive-sponsored-by-garden-grove-lions-club-6182
END:VEVENT

END:VCALENDAR
