BEGIN:VCALENDAR
VERSION:2.0
PRODID:-//ChamberMaster//Event Calendar 2.0//EN
METHOD:PUBLISH
X-PUBLISHED-TTL:P3D
REFRESH-INTERVAL:P3D
CALSCALE:GREGORIAN
BEGIN:VEVENT
DTSTART:20170509T233000Z
DTEND:20170510T013000Z
X-MICROSOFT-CDO-ALLDAYEVENT:FALSE
SUMMARY:Class of 2017 Graduates' Reception
DESCRIPTION:For a fifth year\, the City is recognizing Garden Grove college graduates for their outstanding accomplishments. The City is seeking names and information from Garden Grove residents who will receive a Spring\, Summer\, or Fall 2017 undergraduate or post-graduate academic degree from any college or university. Graduates who submit their information by April 30\, 2017 will be recognized at the Tuesday\, May 9\, 2017 City Council meeting\, at 6:30 p.m.\n\nPrior to the recognition\, the higher education alumnae and their guests will be invited to attend a free private reception\, hosted by Mayor Steve Jones and the Garden Grove City Council\, at 4:30 p.m. At the catered reception\, each graduate will have the opportunity to network with local professionals and win raffle prizes.\n\nFor more information\, call the Office of Community Relations at (714) 741-5280 or email communityrelations@garden-grove.org. To see photos from last year's recognition\, please visit the City's Facebook at Garden Grove City Hall.\n\nThe City thanks the generous sponsorships from this year's Garden Grove College Graduates' Reception: Title Sponsor: Garden Grove Shell #1. Event Sponsors: Kiwanis Club of Garden Grove\, Signal Hill Petroleum\, Strawberry Festival Association\, Credit Union of Southern California\, Tu Camino\, and Women's Division of the Garden Grove Chamber of Commerce.
X-ALT-DESC;FMTTYPE=text/html:<p style="box-sizing: border-box\; margin: 0px 0px 15px\; color: rgb(102\, 102\, 102)\; font-family: &quot\;Open Sans&quot\;\, sans-serif\;"><span style="font-size:14px\;"><span style="font-family:arial\;"><span style="color:#000000\;">For a fifth year\, the City is recognizing Garden Grove college graduates for their outstanding accomplishments. The City is seeking names and information from Garden Grove residents who will receive a Spring\, Summer\, or Fall 2017 undergraduate or post-graduate academic degree from any college or university. Graduates who submit their information by April 30\, 2017 will be recognized at the Tuesday\, May 9\, 2017 City Council meeting\, at 6:30 p.m.</span></span></span></p>\n\n<p style="box-sizing: border-box\; margin: 0px 0px 15px\; color: rgb(102\, 102\, 102)\; font-family: &quot\;Open Sans&quot\;\, sans-serif\;"><span style="font-size:14px\;"><span style="font-family:arial\;"><span style="color:#000000\;">Prior to the recognition\, the higher education alumnae and their guests will be invited to attend a free private reception\, hosted by Mayor Steve Jones and the Garden Grove City Council\, at 4:30&nbsp\;p.m. At the catered reception\, each graduate will have the opportunity to network with local professionals and win raffle prizes.</span></span></span></p>\n\n<p style="box-sizing: border-box\; margin: 0px 0px 15px\; color: rgb(102\, 102\, 102)\; font-family: &quot\;Open Sans&quot\;\, sans-serif\;"><span style="font-size:14px\;"><span style="font-family:arial\;"><span style="color:#000000\;">For more information\, call the Office of Community Relations at (714) 741-5280 or email&nbsp\;</span><a href="mailto:communityrelations@garden-grove.org" style="box-sizing: border-box\; background: transparent\; color: rgb(15\, 161\, 213)\; text-decoration: none\;"><span style="color:#000000\;">communityrelations@garden-grove.org</span></a><span style="color:#000000\;">. To see photos from last year&rsquo\;s recognition\, please visit the City&rsquo\;s Facebook at&nbsp\;</span><a href="https://www.facebook.com/GardenGroveCityHall/?ref=py_c" style="box-sizing: border-box\; background: transparent\; color: rgb(15\, 161\, 213)\; text-decoration: none\;"><span style="color:#000000\;">Garden Grove City Hall</span></a><span style="color:#000000\;">.</span></span></span></p>\n\n<p style="box-sizing: border-box\; margin: 0px 0px 15px\; color: rgb(102\, 102\, 102)\; font-family: &quot\;Open Sans&quot\;\, sans-serif\;"><span style="font-size:14px\;"><span style="font-family:arial\;"><span style="color:#000000\;">The City thanks the generous sponsorships from this year&#39\;s Garden Grove College Graduates&#39\; Reception: Title Sponsor:&nbsp\;</span><a href="https://www.facebook.com/gardengroveshell" style="box-sizing: border-box\; background: transparent\; color: rgb(15\, 161\, 213)\; text-decoration: none\;"><span style="color:#000000\;">Garden Grove Shell #1</span></a><span style="color:#000000\;">. Event Sponsors:&nbsp\;</span><a href="https://www.facebook.com/kiwanisggg/" style="box-sizing: border-box\; background: transparent\; color: rgb(15\, 161\, 213)\; text-decoration: none\;"><span style="color:#000000\;">Kiwanis Club of Garden Grove</span></a><span style="color:#000000\;">\,&nbsp\;</span><a href="http://www.shpi.net/" style="box-sizing: border-box\; background: transparent\; color: rgb(15\, 161\, 213)\; text-decoration: none\;"><span style="color:#000000\;">Signal Hill Petroleum</span></a><span style="color:#000000\;">\,&nbsp\;</span><a href="http://strawberryfestival.org/" style="box-sizing: border-box\; background: transparent\; color: rgb(15\, 161\, 213)\; text-decoration: none\;"><span style="color:#000000\;">Strawberry Festival Association</span></a><span style="color:#000000\;">\, Credit Union of Southern California\, Tu Camino\, and Women&#39\;s Division of the Garden Grove Chamber of Commerce.</span></span></span></p>\n
LOCATION:City Council Meeting 11300 Stanford Avenue
UID:e.1315.6115
SEQUENCE:3
DTSTAMP:20260420T044314Z
URL:http://member.gardengrovechamber.com/events/details/class-of-2017-graduates-reception-6115
END:VEVENT

END:VCALENDAR
