BEGIN:VCALENDAR
VERSION:2.0
PRODID:-//ChamberMaster//Event Calendar 2.0//EN
METHOD:PUBLISH
X-PUBLISHED-TTL:P3D
REFRESH-INTERVAL:P3D
CALSCALE:GREGORIAN
BEGIN:VEVENT
DTSTART:20170401T200000Z
DTEND:20170401T230000Z
X-MICROSOFT-CDO-ALLDAYEVENT:FALSE
SUMMARY:Community Shred Event
DESCRIPTION:Visit your local H&R Block to properly dispose of your unwanted confidential documents.
X-ALT-DESC;FMTTYPE=text/html:Visit your local H&amp\;R Block to properly dispose of your unwanted confidential documents.
LOCATION:Nearest H&R Block
UID:e.1315.6116
SEQUENCE:3
DTSTAMP:20260420T062036Z
URL:http://member.gardengrovechamber.com/events/details/community-shred-event-6116
END:VEVENT

END:VCALENDAR
