BEGIN:VCALENDAR
VERSION:2.0
PRODID:-//ChamberMaster//Event Calendar 2.0//EN
METHOD:PUBLISH
X-PUBLISHED-TTL:P3D
REFRESH-INTERVAL:P3D
CALSCALE:GREGORIAN
BEGIN:VEVENT
DTSTART:20150807T013000Z
DTEND:20150807T033000Z
X-MICROSOFT-CDO-ALLDAYEVENT:FALSE
SUMMARY:Concerts in the Park - Flashback Heart Attack
DESCRIPTION:It's the ultimate 80's New Wave show. Voted OC Weekly's "Best Live Show" for the last three years in a row. Let them take you back to the 80's with favorites like "Just Like Heaven"\, "Your Love"\, "Jessie's Girl"\, "Dancin' With Myself." Enjoy the pre-festivities with GGUSD high school students competing each week for th title of "The Voice" of Garden Grove. Mobile food trucks and dessert vendors will be on-site. No golf carts\, umbrellas or EZ-ups allowed.
X-ALT-DESC;FMTTYPE=text/html:<p>It&#39\;s the ultimate 80&#39\;s New Wave show. Voted OC Weekly&#39\;s &quot\;Best Live Show&quot\; for the last three years in a row. Let them take you back to the 80&#39\;s with favorites like &quot\;Just Like Heaven&quot\;\, &quot\;Your Love&quot\;\, &quot\;Jessie&#39\;s Girl&quot\;\, &quot\;Dancin&#39\; With Myself.&quot\; Enjoy the pre-festivities with GGUSD high school students competing each week for th title of &quot\;The Voice&quot\; of Garden Grove. Mobile food trucks and dessert vendors will be on-site. No golf carts\, umbrellas or EZ-ups allowed.&nbsp\;</p>\n
LOCATION:Eastgate Park\, 12001 St. Mark Street Garden Grove
UID:e.1315.3430
SEQUENCE:3
DTSTAMP:20260423T192952Z
URL:http://member.gardengrovechamber.com/events/details/concerts-in-the-park-flashback-heart-attack-08-06-2015-3430
END:VEVENT

END:VCALENDAR
