BEGIN:VCALENDAR
VERSION:2.0
PRODID:-//ChamberMaster//Event Calendar 2.0//EN
METHOD:PUBLISH
X-PUBLISHED-TTL:P3D
REFRESH-INTERVAL:P3D
CALSCALE:GREGORIAN
BEGIN:VEVENT
DTSTART:20150814T013000Z
DTEND:20150814T033000Z
X-MICROSOFT-CDO-ALLDAYEVENT:FALSE
SUMMARY:Concerts in the Park - Stone Soul
DESCRIPTION:Our last concert for this year. Returning to Eastgate to clost out this summer's concert series is Stone Soul\, an electrifying fusion of great vocals\, high s\\energy and tons of fun. It's a Motown-hits party that gets everyone 'dancing in the streets' and enjoying music. Enjoy the pre-festivities with GGUSD high school students competing each week for th title of "The Voice" of Garden Grove. Mobile food trucks and dessert vendors will be on-site. No golf carts\, umbrellas or EZ-ups allowed.
X-ALT-DESC;FMTTYPE=text/html:<p>Our last concert for this year. Returning to Eastgate to clost out this summer&#39\;s concert series is Stone Soul\, an electrifying fusion of great vocals\, high s\\energy and tons of fun. It&#39\;s a Motown-hits party that gets everyone &#39\;dancing in the streets&#39\; and enjoying music.&nbsp\;Enjoy the pre-festivities with GGUSD high school students competing each week for th title of &quot\;The Voice&quot\; of Garden Grove. Mobile food trucks and dessert vendors will be on-site. No golf carts\, umbrellas or EZ-ups allowed.&nbsp\;</p>\n
LOCATION:Eastgate Park\, 12001 St. Mark Street Garden Grove
UID:e.1315.3431
SEQUENCE:3
DTSTAMP:20260423T193044Z
URL:http://member.gardengrovechamber.com/events/details/concerts-in-the-park-stone-soul-08-13-2015-3431
END:VEVENT

END:VCALENDAR
