BEGIN:VCALENDAR
VERSION:2.0
PRODID:-//ChamberMaster//Event Calendar 2.0//EN
METHOD:PUBLISH
X-PUBLISHED-TTL:P3D
REFRESH-INTERVAL:P3D
CALSCALE:GREGORIAN
BEGIN:VEVENT
DTSTART:20150626T003000Z
DTEND:20150626T020000Z
X-MICROSOFT-CDO-ALLDAYEVENT:FALSE
SUMMARY:Credit Union of Southern California-Rolling Over Retirement
DESCRIPTION:Make your finances easier to manage and your financial dreams easier to achieve with CU SoCal. Join us at our upcoming\, complimentary workshop\, Rolling Over Retirement Accounts. Hear how to simplify required minimum distributions. Learn valuable estate planning features.
X-ALT-DESC;FMTTYPE=text/html:Make your finances easier to manage and your financial dreams easier to achieve with CU SoCal. Join us at our upcoming\, complimentary workshop\, Rolling Over Retirement Accounts. Hear how to simplify required minimum distributions. Learn valuable estate planning features.
LOCATION:Garden Grove Branch 11390 Stanford Ave. Garden Grove\, CA
UID:e.1315.2938
SEQUENCE:3
DTSTAMP:20260423T223635Z
URL:http://member.gardengrovechamber.com/events/details/credit-union-of-southern-california-rolling-over-retirement-06-25-2015-2938
END:VEVENT

END:VCALENDAR
