BEGIN:VCALENDAR
VERSION:2.0
PRODID:-//ChamberMaster//Event Calendar 2.0//EN
METHOD:PUBLISH
X-PUBLISHED-TTL:P3D
REFRESH-INTERVAL:P3D
CALSCALE:GREGORIAN
BEGIN:VEVENT
DTSTART:20150327T003000Z
DTEND:20150327T020000Z
X-MICROSOFT-CDO-ALLDAYEVENT:FALSE
SUMMARY:CU SoCal's "Securing Your Retirement" Workshop
DESCRIPTION:Securing Your Retirement\n\nJoin us at our Garden Grove Branch for an overview on what you can do to help secure your retirement savings\; Learn how collecting retirement earnings early may reduce the amount of your long-term benefits\; Discover available resources\; Learn what options to consider before collecting retirement earnings\n\n\n\nIf you should have any questions\, please feel free to contact Melissa Manning at 562-365-1881. Please send your RSVP's by email to: workshopsRSVP@CUSoCal.org or visit our website at www.CUSoCal.org (News & Events - Educational Worklshops).
X-ALT-DESC;FMTTYPE=text/html:<br />\n<span style="font-size:14px\;"><em><strong>Securing Your Retirement</strong></em></span><br />\nJoin us at our Garden Grove Branch for an overview on what you can do to help secure your retirement savings\; Learn how collecting retirement earnings early may reduce the amount of your long-term benefits\; Discover available resources\; Learn what options to consider before collecting retirement earnings<br />\n<br />\nIf you should have any questions\, please feel free to contact Melissa Manning at 562-365-1881. Please send your RSVP&#39\;s by email to: workshopsRSVP@CUSoCal.org or visit our website at www.CUSoCal.org (News &amp\; Events - Educational Worklshops).
LOCATION:Credit Union of Southern California Garden Grove Branch 11390 Stanford Avenue Garden Grove\, CA 92840
UID:e.1315.2661
SEQUENCE:3
DTSTAMP:20260424T033821Z
URL:http://member.gardengrovechamber.com/events/details/cu-socal-s-securing-your-retirement-workshop-03-26-2015-2661
END:VEVENT

END:VCALENDAR
