BEGIN:VCALENDAR
VERSION:2.0
PRODID:-//ChamberMaster//Event Calendar 2.0//EN
METHOD:PUBLISH
X-PUBLISHED-TTL:P3D
REFRESH-INTERVAL:P3D
CALSCALE:GREGORIAN
BEGIN:VEVENT
DTSTART:20160827T150000Z
DTEND:20160827T220000Z
X-MICROSOFT-CDO-ALLDAYEVENT:FALSE
SUMMARY:Customer Appreciation Raffle!
DESCRIPTION:NorthStar SuperMarket is celebrating a "Customer Appreciation Raffle". Get a FREE Raffle Ticket with a minimum purchase of $10. Drawing will be at 3:00 pm.\n\n1st Prize - 1 winner: 65" TV Set\n\n2nd Prize - 3 winners: $50 store credit\n\n3rd Prize - 3 winners: $20 store credit
X-ALT-DESC;FMTTYPE=text/html:<strong><em>NorthStar SuperMarket</em></strong>&nbsp\;is celebrating a &quot\;Customer Appreciation Raffle&quot\;. Get a <u><strong>FREE Raffle Ticket </strong></u>with a minimum purchase of $10. Drawing will be at 3:00 pm.<br />\n<span style="color:#FF0000\;"><strong>1st Prize - 1 winner: 65&quot\; TV Set</strong></span><br />\n<span style="color:#0000FF\;"><strong>2nd Prize - 3 winners: $50 store credit</strong></span><br />\n<span style="color:#008000\;"><strong>3rd Prize - 3 winners: $20 store credit</strong></span>
LOCATION:NorthStar SuperMarket 12081 Brookhurst Street Garden Grove\, CA 92840
UID:e.1315.5997
SEQUENCE:3
DTSTAMP:20260420T183700Z
URL:http://member.gardengrovechamber.com/events/details/customer-appreciation-raffle-08-27-2016-5997
END:VEVENT

END:VCALENDAR
