BEGIN:VCALENDAR
VERSION:2.0
PRODID:-//ChamberMaster//Event Calendar 2.0//EN
METHOD:PUBLISH
X-PUBLISHED-TTL:P3D
REFRESH-INTERVAL:P3D
CALSCALE:GREGORIAN
BEGIN:VEVENT
DTSTART;VALUE=DATE:20141006
DTEND;VALUE=DATE:20141007
TRANSP:TRANSPARENT
X-MICROSOFT-CDO-ALLDAYEVENT:TRUE
SUMMARY:Cypress College Foundation Golf Classic
DESCRIPTION:Cypress College Foundation Golf Classic - More information to come!\n\n\n\nThis will be a great day of golf with friends\, clients and colleagues!  First 144 golfers guaranteed a place.  Golf\, cart\, range\, lunch\, dinner\, beverages\, snacks\, gifts & more!  This golf classic will benefit students and programs at Cypress College.
X-ALT-DESC;FMTTYPE=text/html:<strong>Cypress College Foundation Golf Classic</strong> - <em>More information to c</em>ome!<br />\n<br />\n<strong>This will be a great day of golf with friends\, clients and colleagues!</strong> &nbsp\;First 144 golfers guaranteed a place. &nbsp\;Golf\, cart\, range\, lunch\, dinner\, beverages\, snacks\, gifts &amp\; more! &nbsp\;This golf classic will benefit students and programs at Cypress College.
LOCATION:SeaCliff Country Club
UID:e.1315.1758
SEQUENCE:3
DTSTAMP:20260424T102954Z
URL:http://member.gardengrovechamber.com/events/details/cypress-college-foundation-golf-classic-10-06-2014-1758
END:VEVENT

END:VCALENDAR
