BEGIN:VCALENDAR
VERSION:2.0
PRODID:-//ChamberMaster//Event Calendar 2.0//EN
METHOD:PUBLISH
X-PUBLISHED-TTL:P3D
REFRESH-INTERVAL:P3D
CALSCALE:GREGORIAN
BEGIN:VEVENT
DTSTART;VALUE=DATE:20140309
DTEND;VALUE=DATE:20140310
TRANSP:TRANSPARENT
X-MICROSOFT-CDO-ALLDAYEVENT:TRUE
SUMMARY:Daylight Savings Day
DESCRIPTION:Don't forget to set your clock forward 1 hour!
X-ALT-DESC;FMTTYPE=text/html:Don&#39\;t forget to set your clock forward 1 hour!
LOCATION:
UID:e.1315.1476
SEQUENCE:3
DTSTAMP:20260424T204810Z
URL:http://member.gardengrovechamber.com/events/details/daylight-savings-day-03-09-2014-1476
END:VEVENT

END:VCALENDAR
