BEGIN:VCALENDAR
VERSION:2.0
PRODID:-//ChamberMaster//Event Calendar 2.0//EN
METHOD:PUBLISH
X-PUBLISHED-TTL:P3D
REFRESH-INTERVAL:P3D
CALSCALE:GREGORIAN
BEGIN:VEVENT
DTSTART:20131103T010000Z
DTEND:20131103T050000Z
X-MICROSOFT-CDO-ALLDAYEVENT:FALSE
SUMMARY:Denim and Diamonds
DESCRIPTION:Second Annual Casino night to support the programs and services of Acacia Adult Day Services. There will be live auction items\, raffle prizes and opportunity tickets for either a $500 Nordstrom gift card or $1\,000 in cash. Beer and wine available for purchase. Sponsorship and underwriting opportunities available. Check our web site for details.
X-ALT-DESC;FMTTYPE=text/html:Second Annual Casino night to support the programs and services of Acacia Adult Day Services. There will be live auction items\, raffle prizes and opportunity tickets for either a $500 Nordstrom gift card or $1\,000 in cash. Beer and wine available for purchase. Sponsorship and underwriting opportunities available. Check our web site for details.
LOCATION:Garden Grove Community Meeting Center 11300 Stanford Avenue\, Garden Grove 92840
UID:e.1315.1185
SEQUENCE:3
DTSTAMP:20260425T034642Z
URL:http://member.gardengrovechamber.com/events/details/denim-and-diamonds-11-02-2013-1185
END:VEVENT

END:VCALENDAR
