BEGIN:VCALENDAR
VERSION:2.0
PRODID:-//ChamberMaster//Event Calendar 2.0//EN
METHOD:PUBLISH
X-PUBLISHED-TTL:P3D
REFRESH-INTERVAL:P3D
CALSCALE:GREGORIAN
BEGIN:VEVENT
DTSTART:20170402T013000Z
DTEND:20170402T043000Z
X-MICROSOFT-CDO-ALLDAYEVENT:FALSE
SUMMARY:Desperado - Outdoor Concert
DESCRIPTION:Desperado Tribute to the Eagles - Open air outdoor concert. Come dance in front of the stage with your friends or by yourself. Parking is always free and beer\, wine\, snacks and soft drinks are available for purchase. Every seat is a great seat and a great time is had by all.
X-ALT-DESC;FMTTYPE=text/html:Desperado Tribute to the Eagles - Open air outdoor concert. Come dance in front of the stage with your friends or by yourself. Parking is always free and beer\, wine\, snacks and soft drinks are available for purchase. Every seat is a great seat and a great time is had by all.
LOCATION:12762 Main Street Garden Grove
UID:e.1315.6109
SEQUENCE:3
DTSTAMP:20260420T062416Z
URL:http://member.gardengrovechamber.com/events/details/desperado-outdoor-concert-6109
END:VEVENT

END:VCALENDAR
