BEGIN:VCALENDAR
VERSION:2.0
PRODID:-//ChamberMaster//Event Calendar 2.0//EN
METHOD:PUBLISH
X-PUBLISHED-TTL:P3D
REFRESH-INTERVAL:P3D
CALSCALE:GREGORIAN
BEGIN:VEVENT
DTSTART:20140924T220000Z
DTEND:20140925T030000Z
X-MICROSOFT-CDO-ALLDAYEVENT:FALSE
SUMMARY:Dine & Make a Difference!
DESCRIPTION:Please join us for lunch or dinner at Boudin SF at South Coast Plaza to help raise funds for Thomas House Shelter where 20% of sales generated (excluding tax and alcohol) from Dine-in and To-go meal purchases will be donated.\n\n\n\nBoudin SF is a welcoming\, fun and family-friendly restaurant serving freshly-made breakfasts\, lunches and dinners in the popular Boudin San Francisco tradition\, all featuring Boudin Bakery's legendary sourdough bread.
X-ALT-DESC;FMTTYPE=text/html:<span style="font-size:14px\;"><span style="font-family:times new roman\;">Please join us for lunch or dinner at&nbsp\;Boudin SF at South Coast Plaza to help raise funds for Thomas House Shelter where 20% of sales generated (excluding tax and alcohol) from Dine-in and To-go meal purchases will be donated.</span></span><br />\n<br />\n<em><span style="font-size:12px\;"><span style="font-family:times new roman\;"><strong><span style="color: rgb(102\, 102\, 102)\; line-height: 18px\;">Boudin SF is a welcoming\, fun and family-friendly restaurant serving freshly-made breakfasts\, lunches and dinners in the popular Boudin San Francisco tradition\, all featuring Boudin Bakery&rsquo\;s legendary sourdough bread.</span></strong></span></span></em>
LOCATION:Boudin SF at South Coast Plaza 3333 Bristol Street Costa Mesa\, CA 92626
UID:e.1315.2096
SEQUENCE:3
DTSTAMP:20260424T114615Z
URL:http://member.gardengrovechamber.com/events/details/dine-make-a-difference-09-24-2014-2096
END:VEVENT

END:VCALENDAR
