BEGIN:VCALENDAR
VERSION:2.0
PRODID:-//ChamberMaster//Event Calendar 2.0//EN
METHOD:PUBLISH
X-PUBLISHED-TTL:P3D
REFRESH-INTERVAL:P3D
CALSCALE:GREGORIAN
BEGIN:VEVENT
DTSTART:20160918T013000Z
DTEND:20160918T041500Z
X-MICROSOFT-CDO-ALLDAYEVENT:FALSE
SUMMARY:Eagles Tribute Concert
DESCRIPTION:Desperado - "Tribute to Eagles" - Desperado\, Southern California's Premier Eagles Tribute\, is just that. With five lead vocalists and instrumentalists who have honed their musical skills in a variety of professional projects\, "Desperado" is truly a cut above their counterparts with their "all live presentation" (no backing tracks or samplers used in their show) of the most popular band of the 70's\, the Eagles. Singing the Eagles soaring harmonies while executing the guitar parts and rhythm track to perfection\, Desperado challenges the listener to tell the difference between what is being played live and what the original recordings sound like.
X-ALT-DESC;FMTTYPE=text/html:<strong>Desperado - &quot\;Tribute to Eagles&quot\; </strong>- <em>Desperado</em>\, Southern California&#39\;s Premier Eagles Tribute\, is just that. With five lead vocalists and instrumentalists who have honed their musical skills in a variety of professional projects\, &quot\;Desperado&quot\; is truly a cut above their counterparts with their &quot\;all live presentation&quot\; (no backing tracks or samplers used in their show) of the most popular band of the 70&#39\;s\, the Eagles. Singing the Eagles soaring harmonies while executing the guitar parts and rhythm track to perfection\, Desperado challenges the listener to tell the difference between what is being played live and what the original recordings sound like.
LOCATION:The Strawberry Bowl 12762 Main Street Garden Grove
UID:e.1315.6004
SEQUENCE:3
DTSTAMP:20260420T183757Z
URL:http://member.gardengrovechamber.com/events/details/eagles-tribute-concert-6004
END:VEVENT

END:VCALENDAR
