BEGIN:VCALENDAR
VERSION:2.0
PRODID:-//ChamberMaster//Event Calendar 2.0//EN
METHOD:PUBLISH
X-PUBLISHED-TTL:P3D
REFRESH-INTERVAL:P3D
CALSCALE:GREGORIAN
BEGIN:VEVENT
DTSTART:20170923T170000Z
DTEND:20170923T210000Z
X-MICROSOFT-CDO-ALLDAYEVENT:FALSE
SUMMARY:Elwyn California - Rock'n Fifties
DESCRIPTION:Annual Fall Fling teaser - Rock'n Fifties - SAVE THE DATE\, 9/23! 10:00-2:00 pm. Guaranteed fun with an amazing cast of community volunteers & Elwyn program participants.\n\n\n\nAnnouncing some of our exciting brand new cast line up\, top left to right:  Alex Accetta\, John Etheridge\, Janie Wiliki Best\, Marissa & Issa Demes. You can reserve a seat now with the cast member of your choice as they will be filling their own tables of 8-9.\n\n       \n\nWe still have room for a couple more cast members if you are interested in being a table sponsor and performing for $485.\n\n\n\nYou don't want to miss the Elwyn CA community stars (at least 18 of them) Rock'n (maybe even singing) their favorite fifties tunes at the 2017 Fall Fling! For the 1st time\, at the Great Wolf Lodge\, Anaheim. Each year has been bigger & better and we are confident to anticipate the same for this year! Follow our electronic newsletter and our Facebook page (HERE) to stay up on details.\n\n \n\nGREAT logo work by the 1st sponsor\, Level 27 Media!
X-ALT-DESC;FMTTYPE=text/html:<span style="font-size:14px\;"><span style="font-family:arial\;"><span font-size:="" helvetica="">Annual Fall Fling teaser - Rock&#39\;n Fifties - SAVE THE DATE\, 9/23! 10:00-2:00 pm. Guaranteed fun with an amazing cast of community volunteers &amp\; Elwyn program participants.</span><br />\n<br />\nAnnouncing some of our exciting brand new cast line up\, top left to right:&nbsp\; Alex Accetta\, John Etheridge\, Janie Wiliki Best\, Marissa &amp\; Issa Demes.&nbsp\;You can reserve a seat now with the cast member of your choice as they will be filling their own tables of 8-9.<br style="color: rgb(96\, 96\, 96)\; font-family: Helvetica\; font-size: 15px\;" />\n&nbsp\; &nbsp\; &nbsp\; &nbsp\;<br style="color: rgb(96\, 96\, 96)\; font-family: Helvetica\; font-size: 15px\;" />\nWe still have room for a couple more cast members if you are interested in being a table sponsor and performing&nbsp\;for&nbsp\;$485.<br />\n<br />\nYou don&#39\;t want to miss the Elwyn CA community stars (at least 18 of them) Rock&#39\;n (maybe even singing) their favorite fifties tunes at the 2017 Fall Fling! For the 1<sup style="color: rgb(96\, 96\, 96)\; font-family: Helvetica\;">st</sup>&nbsp\;time\, at the Great Wolf Lodge\, Anaheim. Each year has been bigger &amp\; better and we are confident to anticipate the same for this year! Follow our electronic newsletter and our Facebook page&nbsp\;<a href="https://www.facebook.com/CaElwyn/" style="word-wrap: break-word\; text-size-adjust: 100%\; color: rgb(109\, 198\, 221)\; font-family: Helvetica\; font-size: 15px\;" target="_blank">(HERE)</a>&nbsp\;to stay up on details.<br style="color: rgb(96\, 96\, 96)\; font-family: Helvetica\; font-size: 15px\;" />\n&nbsp\;<br style="color: rgb(96\, 96\, 96)\; font-family: Helvetica\; font-size: 15px\;" />\nGREAT logo work by the 1st sponsor\,&nbsp\;<a data-saferedirecturl="https://www.google.com/url?hl=en&amp\;q=https://www.facebook.com/level27media/&amp\;source=gmail&amp\;ust=1484197474172000&amp\;usg=AFQjCNFQQdcgdIOBNCiisFG6RooyHtZ45A" href="https://www.facebook.com/level27media/" style="word-wrap: break-word\; text-size-adjust: 100%\; color: rgb(109\, 198\, 221)\; font-family: Helvetica\; font-size: 15px\;" target="_blank">Level 27 Media</a>!</span></span>
LOCATION:Great Wolf Lodge of Southern California 12681 Harbor Blvd.\, Garden Grove\, CA 92840
UID:e.1315.6078
SEQUENCE:3
DTSTAMP:20260419T222324Z
URL:http://member.gardengrovechamber.com/events/details/elwyn-california-rock-n-fifties-6078
END:VEVENT

END:VCALENDAR
