BEGIN:VCALENDAR
VERSION:2.0
PRODID:-//ChamberMaster//Event Calendar 2.0//EN
METHOD:PUBLISH
X-PUBLISHED-TTL:P3D
REFRESH-INTERVAL:P3D
CALSCALE:GREGORIAN
BEGIN:VEVENT
DTSTART:20170517T180000Z
DTEND:20170517T210000Z
X-MICROSOFT-CDO-ALLDAYEVENT:FALSE
SUMMARY:Elwyn Friends & Family Day
DESCRIPTION:Come visit our facility and enjoy some delicious Liege waffles. 15% of proceeds benefit Elwyn California. Information available from Alzheimers Association Orange County\, Department of Rehabilitation\, American Red Cross and others.
X-ALT-DESC;FMTTYPE=text/html:Come visit our facility and enjoy some delicious Liege waffles. 15% of proceeds benefit Elwyn California. Information available from Alzheimers Association Orange County\, Department of Rehabilitation\, American Red Cross and others.
LOCATION:Elwyn California 18325 Mt. Baldy Circle Fountain Valley\, CA 92708
UID:e.1315.6113
SEQUENCE:3
DTSTAMP:20260420T044737Z
URL:http://member.gardengrovechamber.com/events/details/elwyn-friends-family-day-6113
END:VEVENT

END:VCALENDAR
