BEGIN:VCALENDAR
VERSION:2.0
PRODID:-//ChamberMaster//Event Calendar 2.0//EN
METHOD:PUBLISH
X-PUBLISHED-TTL:P3D
REFRESH-INTERVAL:P3D
CALSCALE:GREGORIAN
BEGIN:VEVENT
DTSTART:20170621T230000Z
DTEND:20170622T020000Z
X-MICROSOFT-CDO-ALLDAYEVENT:FALSE
SUMMARY:Export Essentials for Business
DESCRIPTION:This workshop will cover:\n\n\n\nThe essentials of exporting to help save time and prevent your company from making costly mistakes\, and learn about strategies to help increase your international sales. \n\n	Qualifying International Customers & Communication Methods\n	Product\n	International Price & INCOTERMS\n	Methods of Payment\n	International Sales Agreements\n	Export Compliance Requirements
X-ALT-DESC;FMTTYPE=text/html:<strong>This workshop will cover:</strong><br />\n<br />\nThe essentials of exporting to help save time and prevent your company from making costly mistakes\, and learn about strategies to help increase your international sales.&nbsp\;\n<ul>\n	<li>Qualifying International Customers &amp\; Communication Methods</li>\n	<li>Product</li>\n	<li>International Price &amp\; INCOTERMS</li>\n	<li>Methods of Payment</li>\n	<li>International Sales Agreements</li>\n	<li>Export Compliance Requirements</li>\n</ul>\n
LOCATION:Garden Grove Community Meeting Center 11300 Stanford Avenue\, B Room Garden Grove\, CA 92840
UID:e.1315.6154
SEQUENCE:3
DTSTAMP:20260420T030741Z
URL:http://member.gardengrovechamber.com/events/details/export-essentials-for-business-6154
END:VEVENT

END:VCALENDAR
