BEGIN:VCALENDAR
VERSION:2.0
PRODID:-//ChamberMaster//Event Calendar 2.0//EN
METHOD:PUBLISH
X-PUBLISHED-TTL:P3D
REFRESH-INTERVAL:P3D
CALSCALE:GREGORIAN
BEGIN:VEVENT
DTSTART:20140302T170000Z
DTEND:20140302T220000Z
X-MICROSOFT-CDO-ALLDAYEVENT:FALSE
SUMMARY:Farmers' Market
DESCRIPTION:Come visit Garden Grove Farmers' Market where vendors sell fresh produce and other food items on Main Street between Garden Grove Boulevard and Acacia Parkway every Sunday.
X-ALT-DESC;FMTTYPE=text/html:Come visit Garden Grove Farmers&#39\; Market where vendors sell fresh produce and other food items on Main Street between Garden Grove Boulevard and Acacia Parkway every Sunday.
LOCATION:Main Street between Garden Grove Boulevard and Acacia Parkway Garden Grove\, CA 92840
UID:e.1315.1473
SEQUENCE:3
DTSTAMP:20260424T210329Z
URL:http://member.gardengrovechamber.com/events/details/farmers-market-03-02-2014-1473
END:VEVENT

END:VCALENDAR
