BEGIN:VCALENDAR
VERSION:2.0
PRODID:-//ChamberMaster//Event Calendar 2.0//EN
METHOD:PUBLISH
X-PUBLISHED-TTL:P3D
REFRESH-INTERVAL:P3D
CALSCALE:GREGORIAN
BEGIN:VEVENT
DTSTART;VALUE=DATE:20300621
DTEND;VALUE=DATE:20300622
TRANSP:TRANSPARENT
X-MICROSOFT-CDO-ALLDAYEVENT:TRUE
SUMMARY:First Day of Summer
DESCRIPTION:
X-ALT-DESC;FMTTYPE=text/html:
LOCATION:
UID:e.1315.8156
SEQUENCE:3
DTSTAMP:20260422T040550Z
URL:http://member.gardengrovechamber.com/events/details/first-day-of-summer-06-21-2030-8156
END:VEVENT

END:VCALENDAR
