BEGIN:VCALENDAR
VERSION:2.0
PRODID:-//ChamberMaster//Event Calendar 2.0//EN
METHOD:PUBLISH
X-PUBLISHED-TTL:P3D
REFRESH-INTERVAL:P3D
CALSCALE:GREGORIAN
BEGIN:VEVENT
DTSTART:20140626T160000Z
DTEND:20140626T190000Z
X-MICROSOFT-CDO-ALLDAYEVENT:FALSE
SUMMARY:Free Helping Nonprofits Thrive Seminar
DESCRIPTION:Controller John Chiang will host a free seminar in Garden Grove featuring helpful info for nonprofits. Topics will include compliance and reporting\, sales and use taxes\, fundraising and ways to avoid common filing and reporting errors. Speakers will include representatives from the Franchise Tax Board and Board of Equalization.\n\n\n\nPresentation Topics:\n\n\n	Compliance and Reporting for Exempt Organizations\n	Sales and Use Taxes for Exempt Organizations\n	Avoiding Common Filing and Reporting Errors\n	Fundraising for Nonprofit Organizations\n\n\n\n\nRSVP Required by June 23\, 2014
X-ALT-DESC;FMTTYPE=text/html:<blockquote style="color: rgb(34\, 34\, 34)\; font-family: arial\, sans-serif\; font-style: normal\; line-height: normal\;" type="cite">\n<div lang="EN-US" link="blue" style="font-family: Helvetica\; font-size: 12px\;" vlink="purple">\n<div style="margin: 0in 0in 0.0001pt\; font-size: 11pt\; font-family: Calibri\, sans-serif\;"><span style="font-size:14px\;"><span style="font-family:times new roman\;"><span lang="EN">Controller John Chiang will host a free seminar in Garden Grove featuring helpful info for nonprofits. Topics will include compliance and reporting\, sales and use taxes\, fundraising and ways to avoid common filing and reporting errors. Speakers will include representatives from the Franchise Tax Board and Board of Equalization.<br />\n<br />\nPresen</span></span></span><span lang="EN">tation Topics:</span></div>\n\n<ul>\n	<li style="margin: 0in 0in 0.0001pt\; font-size: 11pt\; font-family: Calibri\, sans-serif\;">Compliance and Reporting for Exempt&nbsp\;Organizations</li>\n	<li style="margin: 0in 0in 0.0001pt\; font-size: 11pt\; font-family: Calibri\, sans-serif\;">Sales and Use Taxes for Exempt Organizations</li>\n	<li style="margin: 0in 0in 0.0001pt\; font-size: 11pt\; font-family: Calibri\, sans-serif\;">Avoiding Common Filing and Reporting Errors</li>\n	<li style="margin: 0in 0in 0.0001pt\; font-size: 11pt\; font-family: Calibri\, sans-serif\;">Fundraising for Nonprofit Organizations</li>\n</ul>\n\n<div style="margin: 0in 0in 0.0001pt\; font-size: 11pt\; font-family: Calibri\, sans-serif\;"><br />\n<span style="font-size:14px\;"><span style="font-family:times new roman\;"><span lang="EN"><em><strong><u>RSVP Required by June 23\, 2014</u></strong></em></span></span></span></div>\n</div>\n</blockquote>\n
LOCATION:Coastline Community College Commander M. Neel Buell Lecture Hall 12901 Euclid Street Garden Grove\, CA 92840
UID:e.1315.1757
SEQUENCE:3
DTSTAMP:20260424T160822Z
URL:http://member.gardengrovechamber.com/events/details/free-helping-nonprofits-thrive-seminar-06-26-2014-1757
END:VEVENT

END:VCALENDAR
