BEGIN:VCALENDAR
VERSION:2.0
PRODID:-//ChamberMaster//Event Calendar 2.0//EN
METHOD:PUBLISH
X-PUBLISHED-TTL:P3D
REFRESH-INTERVAL:P3D
CALSCALE:GREGORIAN
BEGIN:VEVENT
DTSTART:20150805T003000Z
DTEND:20150805T030000Z
X-MICROSOFT-CDO-ALLDAYEVENT:FALSE
SUMMARY:Free Hot Dogs @ National Night Out
DESCRIPTION:The Garden Grove Police Department and Downtown Business Association want to Raise Awareness about neighborhood watch\, preventing crime and building a safer and stronger community. There will be FREE hot dogs\, fun & games for kids\, raffle prizes and more!!!
X-ALT-DESC;FMTTYPE=text/html:The Garden Grove Police Department and Downtown Business Association want to&nbsp\;<strong>Raise Awareness</strong> about neighborhood watch\, preventing crime and building a safer and stronger community. There will be <strong><em>FREE</em></strong> hot dogs\, fun &amp\; games for kids\, raffle prizes and more!!!&nbsp\;<br />\n&nbsp\;
LOCATION:Historical Main Street (between Garden Grove Blvd. and Acacia) Garden Grove\, CA 92840
UID:e.1315.3092
SEQUENCE:3
DTSTAMP:20260423T193500Z
URL:http://member.gardengrovechamber.com/events/details/free-hot-dogs-national-night-out-08-04-2015-3092
END:VEVENT

END:VCALENDAR
