BEGIN:VCALENDAR
VERSION:2.0
PRODID:-//ChamberMaster//Event Calendar 2.0//EN
METHOD:PUBLISH
X-PUBLISHED-TTL:P3D
REFRESH-INTERVAL:P3D
CALSCALE:GREGORIAN
BEGIN:VEVENT
DTSTART:20141002T160000Z
DTEND:20141002T230000Z
X-MICROSOFT-CDO-ALLDAYEVENT:FALSE
SUMMARY:Free International Business Seminar and Resource Expo
DESCRIPTION:This Free International Business Seminar and Resource Expo is sponsored by Michelle Steel\, Vice Chair\, California State Board of Equalization.  Learn about building a successful business through international trade from experts and exhibitors and discover opportunities in foreign trade.
X-ALT-DESC;FMTTYPE=text/html:This Free <em>International Business Seminar and Resource Expo</em> is sponsored by Michelle Steel\, Vice Chair\, California State Board of Equalization. &nbsp\;Learn about building a successful business through international trade from experts and exhibitors and discover opportunities in foreign trade.
LOCATION:Cypress Community Center 5700 Orange Avenue Cypress\, CA 90630
UID:e.1315.2067
SEQUENCE:3
DTSTAMP:20260424T103803Z
URL:http://member.gardengrovechamber.com/events/details/free-international-business-seminar-and-resource-expo-10-02-2014-2067
END:VEVENT

END:VCALENDAR
