BEGIN:VCALENDAR
VERSION:2.0
PRODID:-//ChamberMaster//Event Calendar 2.0//EN
METHOD:PUBLISH
X-PUBLISHED-TTL:P3D
REFRESH-INTERVAL:P3D
CALSCALE:GREGORIAN
BEGIN:VEVENT
DTSTART:20170125T020000Z
DTEND:20170125T050000Z
X-MICROSOFT-CDO-ALLDAYEVENT:FALSE
SUMMARY:Free SCORE Workshop on "Basics of Accounting - The Language of Business"
DESCRIPTION:"Basics of Accounting - The Language of Business" - Come learn about accounting terms and concepts at this FREE SCORE Workshop. Jim Chamberlaine of SCORE will be presenting this workshop.
X-ALT-DESC;FMTTYPE=text/html:<span style="color:#FF0000\;"><em><strong>&quot\;Basics of Accounting - The Language of Business&quot\;</strong></em></span> - Come learn about accounting terms and concepts at this FREE SCORE Workshop. Jim Chamberlaine of SCORE will be presenting this workshop.
LOCATION:Garden Grove Community Center 11300 Stanford Avenue Room B Garden Grove\, CA 92840
UID:e.1315.6046
SEQUENCE:3
DTSTAMP:20260420T105911Z
URL:http://member.gardengrovechamber.com/events/details/free-score-workshop-on-basics-of-accounting-the-language-of-business-6046
END:VEVENT

END:VCALENDAR
