BEGIN:VCALENDAR
VERSION:2.0
PRODID:-//ChamberMaster//Event Calendar 2.0//EN
METHOD:PUBLISH
X-PUBLISHED-TTL:P3D
REFRESH-INTERVAL:P3D
CALSCALE:GREGORIAN
BEGIN:VEVENT
DTSTART:20161214T233000Z
DTEND:20161215T013000Z
X-MICROSOFT-CDO-ALLDAYEVENT:FALSE
SUMMARY:Free Tax Credit Workshop!
DESCRIPTION:Openings are available for business owners to attend the California Competes Tax Credit workshop hosted by the Governor's Office of Business and Economic Development (GO-Biz). The workshop will provide small\, medium\, and large business owners with instructions on how to apply for the California Competes TAx Credit (CCTC). This is an income tax credit available to businesses that want to come\, stay\, or grow in California. There are no geographic restrictions that impact eligibility. This workshop is co-hosted by the City of Garden Grove\, the Garden Grove Chamber of Commerce\, and the Vietnamese American Chamber of Commerce.
X-ALT-DESC;FMTTYPE=text/html:Openings are available for business owners to attend the <em><strong>California Competes Tax Credit workshop</strong></em> hosted by the Governor&#39\;s Office of Business and Economic Development (GO-Biz). The workshop will provide small\, medium\, and large business owners with instructions on how to apply for the California Competes TAx Credit (CCTC). This is an income tax credit available to businesses that want to come\, stay\, or grow in California. There are no geographic restrictions that impact eligibility. This workshop is co-hosted by the City of Garden Grove\, the Garden Grove Chamber of Commerce\, and the Vietnamese American Chamber of Commerce.
LOCATION:Garden Grove Courtyard Center 12732 Main Street Garden Grove\, CA 92840
UID:e.1315.6045
SEQUENCE:3
DTSTAMP:20260420T122234Z
URL:http://member.gardengrovechamber.com/events/details/free-tax-credit-workshop-6045
END:VEVENT

END:VCALENDAR
