BEGIN:VCALENDAR
VERSION:2.0
PRODID:-//ChamberMaster//Event Calendar 2.0//EN
METHOD:PUBLISH
X-PUBLISHED-TTL:P3D
REFRESH-INTERVAL:P3D
CALSCALE:GREGORIAN
BEGIN:VEVENT
DTSTART:20160408T230000Z
DTEND:20160409T030000Z
X-MICROSOFT-CDO-ALLDAYEVENT:FALSE
SUMMARY:FREE Tax Preparation Event
DESCRIPTION:Have tax questions?\n\nNeed help preparing your 2015 returns?\n\nSenator Nguyen will be here to help\, this Friday\, on Main Street during the Car Show.\n\nCome on down\, its FREE the Car Show and the tax prep help!
X-ALT-DESC;FMTTYPE=text/html:<span style="font-size:12px\;"><span style="font-family:arial\;">Have tax questions?<br />\nNeed help preparing your 2015 returns?<br />\nSenator Nguyen will be here to help\, this Friday\, on Main Street during the Car Show.<br />\nCome on down\, its FREE&hellip\;the Car Show and the tax prep help!</span></span>
LOCATION:Office of Senator Janet Nguyen 10971 Garden Grove Blvd. Suite D Garden Grove\, CA 92843
UID:e.1315.5127
SEQUENCE:3
DTSTAMP:20260421T005700Z
URL:http://member.gardengrovechamber.com/events/details/free-tax-preparation-event-04-08-2016-5127
END:VEVENT

END:VCALENDAR
