BEGIN:VCALENDAR
VERSION:2.0
PRODID:-//ChamberMaster//Event Calendar 2.0//EN
METHOD:PUBLISH
X-PUBLISHED-TTL:P3D
REFRESH-INTERVAL:P3D
CALSCALE:GREGORIAN
BEGIN:VEVENT
DTSTART:20171026T180000Z
DTEND:20171027T065500Z
X-MICROSOFT-CDO-ALLDAYEVENT:FALSE
SUMMARY:Fundraiser for Alzheimer's Orange County
DESCRIPTION:Carolina's Italian Restaurant will donate 15% of all their sales on October 26th to\n\nWalk4ALZ\n\nAcacia Adult Day Services Walk Team.\n\n   \n\nIncludes dine in\, take out\, and all drinks.\n\nJust mention the fundraiser and 15% of your check will be donated to\n\nAlzheimer's Orange County you do not need to bring the flier with you.
X-ALT-DESC;FMTTYPE=text/html:Carolina&rsquo\;s Italian Restaurant will donate 15% of all their sales on October 26th to<br />\nWalk4ALZ<br />\nAcacia Adult Day Services Walk Team.<br />\n&nbsp\;&nbsp\;&nbsp\;<br />\nIncludes dine in\, take out\, and all drinks.<br />\nJust mention the fundraiser and 15% of your check will be donated to<br />\nAlzheimer&rsquo\;s Orange County&mdash\;you do not need to bring the flier with you.<br />\n&nbsp\;
LOCATION:Carolina's Italian Restaurant (2 locations) 12045 Chapman Ave.\, Garden Grove\, CA 92840 915 S Harbor Blvd. Anaheim\, CA 92805 (714)-971-5551
UID:e.1315.6237
SEQUENCE:3
DTSTAMP:20260419T210420Z
URL:http://member.gardengrovechamber.com/events/details/fundraiser-for-alzheimer-s-orange-county-6237
END:VEVENT

END:VCALENDAR
