BEGIN:VCALENDAR
VERSION:2.0
PRODID:-//ChamberMaster//Event Calendar 2.0//EN
METHOD:PUBLISH
X-PUBLISHED-TTL:P3D
REFRESH-INTERVAL:P3D
CALSCALE:GREGORIAN
BEGIN:VEVENT
DTSTART:20130129T193000Z
DTEND:20130129T210000Z
X-MICROSOFT-CDO-ALLDAYEVENT:FALSE
SUMMARY:Garden Grove Chamber's State of the City Luncheon 2013
DESCRIPTION:Garden Grove Chamber of Commerce Presents: State of the City Luncheon featuring Bruce A. Broadwater\, Garden Grove Mayor. In conjunction with the City of Garden Grove and Keynote Sponsor: Walmart.\n\n	\n\n	Join us as newly elected Mayor Broadwater's address will be a 2012 Year in Review\, a discussion on the City's current economic health\, and the City's direction for the current year and beyond.  In addition\, the Mayor will discuss important developments for 2013 that support Garden Grove's forward state of progress.\n\n	\n\n	About Our Keynote Sponsor: Walmart\n\n	\n\n	Walmart serves customers and members more than 200 million times per week and employs 2.2 million associates worldwide. Our business is the result of Sam Walton's visionary leadership\, along with generations of associates focused on helping customers and communities save money and live better. We consider it our responsibility to make positive impacts in the communities we serve. This mission of saving people money\, so they can live better\, has made us the business we are today and is shaping the company we will be tomorrow.\n\n	 \n\n	Walmart is proud to serve as a member of the Garden Grove Chamber of Commerce and looks forward to our future partnership in serving the growing region.
X-ALT-DESC;FMTTYPE=text/html:<p>\n	<span style="font-size: 14px\;"><span style="font-family: arial\;">Garden Grove Chamber of Commerce Presents: State of the City Luncheon featuring Bruce A. Broadwater\, Garden Grove Mayor. In conjunction with the City of Garden Grove and Keynote Sponsor: Walmart.<br />\n	<br />\n	Join us as newly elected Mayor Broadwater&rsquo\;s address will be a 2012 Year in Review\, a discussion on the City&rsquo\;s current economic health\, and the City&rsquo\;s direction for the current year and beyond.&nbsp\; In addition\, the Mayor will discuss important developments for 2013 that support Garden Grove&rsquo\;s forward state of progress.<br />\n	<br />\n	<strong>About Our Keynote Sponsor: <a href="http://corporate.walmart.com/">Walmart</a></strong><br />\n	<br />\n	Walmart serves customers and members more than 200 million times per week and employs 2.2 million associates worldwide. Our business is the result of Sam Walton&#39\;s visionary leadership\, along with generations of associates focused on helping customers and communities save money and live better. We consider it our responsibility to make positive impacts in the communities we serve. This mission of saving people money\, so they can live better\, has made us the business we are today and is shaping the company we will be tomorrow.<br />\n	&nbsp\;<br />\n	Walmart is proud to serve as a member of the Garden Grove Chamber of Commerce and looks forward to our future partnership in serving the growing region.</span></span></p>\n
LOCATION:Crowne Plaza Resort 12021 Harbor Blvd. Garden Grove\, CA 92840
UID:e.1315.865
SEQUENCE:3
DTSTAMP:20260425T205143Z
URL:http://member.gardengrovechamber.com/events/details/garden-grove-chamber-s-state-of-the-city-luncheon-2013-01-29-2013-865
END:VEVENT

END:VCALENDAR
