BEGIN:VCALENDAR
VERSION:2.0
PRODID:-//ChamberMaster//Event Calendar 2.0//EN
METHOD:PUBLISH
X-PUBLISHED-TTL:P3D
REFRESH-INTERVAL:P3D
CALSCALE:GREGORIAN
BEGIN:VEVENT
DTSTART:20160428T150000Z
DTEND:20160428T233000Z
X-MICROSOFT-CDO-ALLDAYEVENT:FALSE
SUMMARY:Garden Grove Historical Society Barn & Book Sale
DESCRIPTION:The Garden Grove Historical Society welcomes you to our 2016 Barn and Book Sale. Our non-profit organization holds two fundraising sales a year to support the 17 historical structures on our 2 acres property. You will find all sorts of items for sale\, all donated by our supporters and friends. We also sell a large number of the plants grown on our property. We distribute the items over three days so that not all of "the good stuff" comes out on the first day. \n\n\n\nWe have limited parking inside of the Historical Society and encourage people to park on Jerry Lane\, the first street south of the Historical Society. \n\n\n\nWe accept donations year-round and they are tax deductable. Please call our main phone line\, 714-530-8871 to let us know you're dropping off items.
X-ALT-DESC;FMTTYPE=text/html:<span style="color: rgb(78\, 86\, 101)\; font-family: helvetica\, arial\, sans-serif\; font-size: 14px\; line-height: 18.76px\;">The Garden Grove Historical Society welcomes you to our 2016 Barn and Book Sale. Our non-profit organization holds two fundraising sales a year to support the 17 historical structures on our 2 acres property. You will find all sorts of items for sale\, all donated by our supporters and friends. We also sell a large number of the plants grown on our property. We distribute the items over three days so that not all of &quot\;the good stuff&quot\; comes out on the first day.&nbsp\;</span><br style="color: rgb(78\, 86\, 101)\; font-family: helvetica\, arial\, sans-serif\; font-size: 14px\; line-height: 18.76px\;" />\n<br style="color: rgb(78\, 86\, 101)\; font-family: helvetica\, arial\, sans-serif\; font-size: 14px\; line-height: 18.76px\;" />\n<span style="color: rgb(78\, 86\, 101)\; font-family: helvetica\, arial\, sans-serif\; font-size: 14px\; line-height: 18.76px\;">We have limited parking inside of the Historical Society and encourage people to park on Jerry Lane\, the first street south of the Historical Society.&nbsp\;</span><br style="color: rgb(78\, 86\, 101)\; font-family: helvetica\, arial\, sans-serif\; font-size: 14px\; line-height: 18.76px\;" />\n<br style="color: rgb(78\, 86\, 101)\; font-family: helvetica\, arial\, sans-serif\; font-size: 14px\; line-height: 18.76px\;" />\n<span style="color: rgb(78\, 86\, 101)\; font-family: helvetica\, arial\, sans-serif\; font-size: 14px\; line-height: 18.76px\;">We accept donations year-round and they are tax deductable. Please call our main phone line\, 714-530-8871 to let us know you&#39\;re dropping off items.</span>&nbsp\;&nbsp\;&nbsp\;&nbsp\;&nbsp\;&nbsp\;&nbsp\;&nbsp\;&nbsp\;&nbsp\;&nbsp\;&nbsp\;
LOCATION:Garden Grove Historical Society 12174 Euclid Street Garden Grove\, CA
UID:e.1315.5130
SEQUENCE:3
DTSTAMP:20260421T011710Z
URL:http://member.gardengrovechamber.com/events/details/garden-grove-historical-society-barn-book-sale-04-28-2016-5130
END:VEVENT

END:VCALENDAR
