BEGIN:VCALENDAR
VERSION:2.0
PRODID:-//ChamberMaster//Event Calendar 2.0//EN
METHOD:PUBLISH
X-PUBLISHED-TTL:P3D
REFRESH-INTERVAL:P3D
CALSCALE:GREGORIAN
BEGIN:VEVENT
DTSTART:20170922T183000Z
DTEND:20170923T020000Z
X-MICROSOFT-CDO-ALLDAYEVENT:FALSE
SUMMARY:Garden Grove Host Lions Club 2017 Charity Golf Tournament
DESCRIPTION:The Garden Grove Host Lions Club will be having a Charity Golf Tournament on Friday\, September 22\, 2017. It will take place at Coyote Hills Golf Course.\n\n\n\nAll proceeds are used to support local charities and service organizations:\n\n	GGUSD Student Eye Exam Program\n	Boys and Girls Club of Garden Grove\n	Garden Grove Neighborhood Association\n	Garden Grove Police Explorer Post\n	Acacia Adult Day Care\n	Kiwanisland\n	City of Hope\n	Guide Dogs for the Blind\n	Lions Eyeglass Recycling Program\n	Blind Children's Learning Center
X-ALT-DESC;FMTTYPE=text/html:The Garden Grove Host Lions Club will be having a Charity Golf Tournament on Friday\, September 22\, 2017. It will take place at Coyote Hills Golf Course.<br />\n<br />\nAll proceeds are used to support local charities and service organizations:\n<ul>\n	<li>GGUSD&nbsp\;Student Eye Exam Program</li>\n	<li>Boys and Girls Club of Garden Grove</li>\n	<li>Garden Grove Neighborhood Association</li>\n	<li>Garden Grove Police Explorer Post</li>\n	<li>Acacia Adult Day Care</li>\n	<li>Kiwanisland</li>\n	<li>City of Hope</li>\n	<li>Guide Dogs for the Blind</li>\n	<li>Lions Eyeglass Recycling Program</li>\n	<li>Blind Children&#39\;s Learning Center</li>\n</ul>\n
LOCATION:Coyote Hills Golf Course 1440 E. Bastanchury Road Fullerton\, CA
UID:e.1315.6181
SEQUENCE:3
DTSTAMP:20260419T224203Z
URL:http://member.gardengrovechamber.com/events/details/garden-grove-host-lions-club-2017-charity-golf-tournament-6181
END:VEVENT

END:VCALENDAR
