BEGIN:VCALENDAR
VERSION:2.0
PRODID:-//ChamberMaster//Event Calendar 2.0//EN
METHOD:PUBLISH
X-PUBLISHED-TTL:P3D
REFRESH-INTERVAL:P3D
CALSCALE:GREGORIAN
BEGIN:VEVENT
DTSTART:20180113T200000Z
DTEND:20180114T010000Z
X-MICROSOFT-CDO-ALLDAYEVENT:FALSE
SUMMARY:Garden Grove Masonic Lodge Installation of Officers
DESCRIPTION:Garden Grove Masonic Lodge Installation of Officers\n\n\n\n11270 Acacia Parkway\n\nGarden Grove\, CA 92840    \n\n\n\nSaturday\, January 13\, 2018\n\n\n\nCeremony - Noon\n\nReception Immediately After\n\n\n\nRSVP with Roger Bulanadi 714-737-7987
X-ALT-DESC;FMTTYPE=text/html:Garden Grove Masonic Lodge Installation of Officers<br />\n<br />\n11270 Acacia Parkway<br />\nGarden Grove\, CA 92840&nbsp\;&nbsp\;&nbsp\;&nbsp\;<br />\n<br />\nSaturday\, January 13\, 2018<br />\n<br />\nCeremony - Noon<br />\nReception Immediately After<br />\n<br />\nRSVP with Roger Bulanadi&nbsp\;714-737-7987
LOCATION:11270 Acacia Parkway Garden Grove\, CA 92840
UID:e.1315.6257
SEQUENCE:3
DTSTAMP:20260419T182156Z
URL:http://member.gardengrovechamber.com/events/details/garden-grove-masonic-lodge-installation-of-officers-6257
END:VEVENT

END:VCALENDAR
