BEGIN:VCALENDAR
VERSION:2.0
PRODID:-//ChamberMaster//Event Calendar 2.0//EN
METHOD:PUBLISH
X-PUBLISHED-TTL:P3D
REFRESH-INTERVAL:P3D
CALSCALE:GREGORIAN
BEGIN:VEVENT
DTSTART;VALUE=DATE:20171007
DTEND;VALUE=DATE:20171008
TRANSP:TRANSPARENT
X-MICROSOFT-CDO-ALLDAYEVENT:TRUE
SUMMARY:Garden Grove Moose Lodge Car Show
DESCRIPTION:Garden Grove Moose Lodge\n\n\n\nCar Show\n\n    No entry fees\, everyone welcome\n\n \n\nThere will be games and raffles\n\n\n\nOktoberfest\n\n    Bratwurst & Sauerkraut\, Ice Cold Drinks & The Foster Brothers Band\n\n\n\nCar Show T-Shirts\n\n\n\nSaturday October 7th\n\nCar show 10:00 am\n\nOktoberfest noon
X-ALT-DESC;FMTTYPE=text/html:<p>Garden Grove Moose Lodge<br />\n<br />\n<u>Car Show</u><br />\n&nbsp\; &nbsp\; No entry fees\, everyone welcome<br />\n&nbsp\;</p>\n\n<p>There will be games and raffles<br />\n<br />\n<u>Oktoberfest</u><br />\n&nbsp\; &nbsp\; Bratwurst &amp\; Sauerkraut\, Ice Cold&nbsp\;Drinks &amp\; The Foster Brothers Band<br />\n<br />\nCar Show T-Shirts<br />\n<br />\nSaturday October 7th<br />\nCar show 10:00 am<br />\nOktoberfest noon</p>\n
LOCATION:Garden Grove Moose Lodge 9901 Bixby Avenue Garden Grove\, CA 92841
UID:e.1315.6230
SEQUENCE:3
DTSTAMP:20260419T223741Z
URL:http://member.gardengrovechamber.com/events/details/garden-grove-moose-lodge-car-show-6230
END:VEVENT

END:VCALENDAR
