BEGIN:VCALENDAR
VERSION:2.0
PRODID:-//ChamberMaster//Event Calendar 2.0//EN
METHOD:PUBLISH
X-PUBLISHED-TTL:P3D
REFRESH-INTERVAL:P3D
CALSCALE:GREGORIAN
BEGIN:VEVENT
DTSTART:20170915T000000Z
DTEND:20170915T040000Z
X-MICROSOFT-CDO-ALLDAYEVENT:FALSE
SUMMARY:Garden Grove Resale Three Year Anniversary Tiki Party
DESCRIPTION:Garden Grove Resale Three Year Anniversary Tiki Party\n\n\n\nThursday\, September 14th\, 5pm\n\n\n\nMusic Refreshments\, Special After Hours\, Promos & Giveaways!
X-ALT-DESC;FMTTYPE=text/html:Garden Grove Resale Three Year Anniversary Tiki Party<br />\n<br />\nThursday\, September 14th\, 5pm<br />\n<br />\nMusic Refreshments\, Special After Hours\, Promos &amp\; Giveaways!&nbsp\; &nbsp\;
LOCATION:Working Wardrobes 12761 Harbor Blvd\, #1-2 Garden Grove\, CA 92840
UID:e.1315.6219
SEQUENCE:3
DTSTAMP:20260419T223050Z
URL:http://member.gardengrovechamber.com/events/details/garden-grove-resale-three-year-anniversary-tiki-party-6219
END:VEVENT

END:VCALENDAR
