BEGIN:VCALENDAR
VERSION:2.0
PRODID:-//ChamberMaster//Event Calendar 2.0//EN
METHOD:PUBLISH
X-PUBLISHED-TTL:P3D
REFRESH-INTERVAL:P3D
CALSCALE:GREGORIAN
BEGIN:VEVENT
DTSTART:20170924T003000Z
DTEND:20170924T043000Z
X-MICROSOFT-CDO-ALLDAYEVENT:FALSE
SUMMARY:Garden Grove Rotary Youth Scholarship Program
DESCRIPTION:"Please join us for an evening of Wonderful entertainment\, food and prizes in support of our Youth Scholarship Program"\n\n\n\nOur Youth...Invest in their future\n\n\n\nDate: Saturday\, September 23\, 2017\n\nPlace: Kiwanis Land\, 9840 Larson Avenue\, Garden Grove\, CA 92844\n\nTime: Dinner 5:30 pm | Drawing: 7:00 to 9:30 pm\n\nImportant: Ticket holder or representative must be present at the drawing. \n\n\n\nThe GG Rotarians are sure ready to have a ball\n\n\n\nDelicious Steak Dinner at a new venue\, \n\nReverse Raffle and 50/50 Raffle Program\n\n\n\nPlease Join Rotarians and their friends gather to happily see\, \n\nHow supporting This Fundraising Night\n\nHelps the Youth in our Community be Rocognized in our\n\n"Annual Community Youth Scholarship Program"\n\nTickets are $110.00 for Two\n\nPlease call 714-929-9470 for more information
X-ALT-DESC;FMTTYPE=text/html:&quot\;Please join us for an evening of Wonderful entertainment\, food and prizes in support of our Youth Scholarship Program&quot\;<br />\n<br />\nOur Youth...Invest in their future<br />\n<br />\nDate: Saturday\, September 23\, 2017<br />\nPlace: Kiwanis&nbsp\;Land\, 9840 Larson Avenue\, Garden Grove\, CA 92844<br />\nTime: Dinner 5:30 pm | Drawing: 7:00 to 9:30 pm<br />\nImportant: Ticket holder or representative must be present at the drawing.&nbsp\;<br />\n<br />\nThe GG Rotarians are sure ready to have a ball<br />\n<br />\nDelicious Steak Dinner at a new venue\,&nbsp\;<br />\nReverse Raffle and 50/50 Raffle Program<br />\n<br />\nPlease Join Rotarians and their friends gather to happily see\,&nbsp\;<br />\nHow supporting This Fundraising Night<br />\nHelps the Youth in our Community be Rocognized in our<br />\n&quot\;Annual Community Youth Scholarship Program&quot\;<br />\nTickets are $110.00 for Two<br />\nPlease call 714-929-9470 for more information
LOCATION:Kiwanis Land 9840 Larson Avenue Garden Grove\, CA 92844
UID:e.1315.6218
SEQUENCE:3
DTSTAMP:20260419T222156Z
URL:http://member.gardengrovechamber.com/events/details/garden-grove-rotary-youth-scholarship-program-6218
END:VEVENT

END:VCALENDAR
