BEGIN:VCALENDAR
VERSION:2.0
PRODID:-//ChamberMaster//Event Calendar 2.0//EN
METHOD:PUBLISH
X-PUBLISHED-TTL:P3D
REFRESH-INTERVAL:P3D
CALSCALE:GREGORIAN
BEGIN:VEVENT
DTSTART:20121102T143000Z
DTEND:20121102T153000Z
X-MICROSOFT-CDO-ALLDAYEVENT:FALSE
SUMMARY:Garden Grove Walmart Neighborhood Market Grand Opening & Ribbon Cutting Ceremony
DESCRIPTION:YOU ARE INVITED \n\n \n\nTo celebrate the grand opening of the new Neighborhood Market inGarden Grove!\n\n \n\nWalmart is committed to serving the Southern California community and is excited to bring a new Walmart store format to Garden Grove. The Garden Grove Walmart Neighborhood Market will provide a convenient\, community-oriented store\, similar to a typical grocery store\, for residents to enjoy.\n\n \n\nThe new Neighborhood Market will feature a wide variety of products\, including fresh produce\, meats and dairy products\, frozen foods\, dry goods and staples\, a pharmacy\, deli foods\, bakery items\, canned and packaged goods\, condiments and spices\, pet supplies\, and household supplies all at the low prices you can expect from Walmart.\n\n \n\nElected officials and community leaders will join the celebration and discuss Walmart's positive impact on the economy and the community.
X-ALT-DESC;FMTTYPE=text/html:<br />\n<span style="font-size: medium"><span style="font-family: arial narrow"><span style="font-size: 12pt"><span style="font-family: arial narrow">YOU ARE INVITED&hellip\;</span></span></span></span><br />\n&nbsp\;<br />\n<span style="font-size: medium"><span style="font-family: arial narrow"><span style="font-size: 12pt"><span style="font-family: arial narrow">To celebrate the grand opening of the new Neighborhood Market inGarden Grove!</span></span></span></span><br />\n&nbsp\;<br />\n<span style="font-size: medium"><span style="font-family: arial narrow"><span style="font-size: 12pt"><span style="font-family: arial narrow">Walmart&nbsp\;is&nbsp\;committed to serving the Southern California community and&nbsp\;is&nbsp\;excited to bring a new Walmart store format to&nbsp\;Garden Grove. The Garden Grove Walmart Neighborhood Market will provide a convenient\, community-oriented store\, similar to a typical grocery store\, for residents to enjoy.</span></span></span></span><br />\n&nbsp\;<br />\n<span style="font-size: medium"><span style="font-family: arial narrow"><span style="font-size: 12pt"><span style="font-family: arial narrow">The new Neighborhood Market will feature a wide variety of products\, including fresh produce\, meats and dairy products\, frozen foods\, dry goods and staples\, a pharmacy\, deli foods\, bakery items\, canned and packaged goods\, condiments and spices\, pet supplies\, and household supplies&hellip\;all at the low prices you can expect from Walmart.</span></span></span></span><br />\n&nbsp\;<br />\n<span style="font-size: medium"><span style="font-family: arial narrow"><span style="font-size: 12pt"><span style="font-family: arial narrow">Elected officials and community leaders will join the celebration and discuss Walmart&rsquo\;s positive impact on the economy and the community.&nbsp\;</span></span></span></span><br />\n
LOCATION:Garden Grove Walmart Neighborhood Market 10972 Katella Ave. Garden Grove
UID:e.1315.858
SEQUENCE:3
DTSTAMP:20260426T000335Z
URL:http://member.gardengrovechamber.com/events/details/garden-grove-walmart-neighborhood-market-grand-opening-ribbon-cutting-ceremony-11-02-2012-858
END:VEVENT

END:VCALENDAR
