BEGIN:VCALENDAR
VERSION:2.0
PRODID:-//ChamberMaster//Event Calendar 2.0//EN
METHOD:PUBLISH
X-PUBLISHED-TTL:P3D
REFRESH-INTERVAL:P3D
CALSCALE:GREGORIAN
BEGIN:VEVENT
DTSTART:20150417T163000Z
DTEND:20150418T020000Z
X-MICROSOFT-CDO-ALLDAYEVENT:FALSE
SUMMARY:GG Host Lions Club 2015 Charity Golf Tournament
DESCRIPTION:This is the Garden Grove Host Lions Club 2015 Charity Golf Tournament at Willowick Golf Course. There will be dinner\, awards\, tournament prizes\, tee gifts and raffle prizes.
X-ALT-DESC;FMTTYPE=text/html:This is the <strong>Garden Grove Host Lions Club 2015 Charity Golf Tournament</strong> at Willowick Golf Course. There will be dinner\, awards\, tournament prizes\, tee gifts and raffle prizes.
LOCATION:Willowick Golf Course 3017 W. 5th Street Santa Ana\, CA 92703 714-554-4408
UID:e.1315.2663
SEQUENCE:3
DTSTAMP:20260424T021539Z
URL:http://member.gardengrovechamber.com/events/details/gg-host-lions-club-2015-charity-golf-tournament-04-17-2015-2663
END:VEVENT

END:VCALENDAR
