BEGIN:VCALENDAR
VERSION:2.0
PRODID:-//ChamberMaster//Event Calendar 2.0//EN
METHOD:PUBLISH
X-PUBLISHED-TTL:P3D
REFRESH-INTERVAL:P3D
CALSCALE:GREGORIAN
BEGIN:VEVENT
DTSTART:20170610T193000Z
DTEND:20170611T000000Z
X-MICROSOFT-CDO-ALLDAYEVENT:FALSE
SUMMARY:GGNA 14th Annual Neighborhood Meeting
DESCRIPTION:Each year\, the Garden Grove Neighborhood Association hosts a general neighborhood meeting for new and existing members. Members have an opportunity to meet local representatives in an informal setting.\n\n\n\nDoors open at 12:30 pm and Speakers start at 1:00 pm\n\nCome Enjoy:\n\n-Taco Lunch with all the fixins\n\n-Meet Our Elected Officials\n\n-Meet Our Police Chief\n\n-Hear from Public Works\n\n-50/50 drawing/raffle Baskets\n\n-Meet your neighbors\n\n-Become a GGNA member or renew your membership for the low cost of $12/year per Family\n\n\n\nDon't miss this opportunity to meet with local representatives in an informal setting to discuss local issues that matter to you. \n\n\n\nAll are Welcome! The event is FREE\n\nBring your family\, friends\, raffle-bucks and luck!
X-ALT-DESC;FMTTYPE=text/html:<span id="yui_3_16_0_ym19_1_1496422761107_9342">Each year\, the Garden Grove Neighborhood Association hosts a general neighborhood meeting for new and existing members. Members have an opportunity to meet local representatives in an informal setting.<br />\n<br />\nDoors open at 12:30 pm and Speakers start at 1:00 pm<br />\nCome Enjoy:<br />\n-Taco Lunch with all the fixins<br />\n-Meet Our Elected Officials<br />\n-Meet Our Police Chief<br />\n-Hear from Public Works<br />\n-50/50 drawing/raffle Baskets<br />\n-Meet your neighbors<br />\n-Become a GGNA member or renew your membership for the low cost of $12/year per Family</span><br />\n<br />\nDon&#39\;t miss this opportunity to meet with local representatives in an informal setting to discuss&nbsp\;<strong><u>local issues</u></strong>&nbsp\;that matter to you.&nbsp\;<br />\n<br />\nAll are Welcome! The event is FREE<br />\nBring your family\, friends\, raffle-bucks and luck!
LOCATION:12381 Meade Street\, Garden Grove\, CA 92841
UID:e.1315.6162
SEQUENCE:3
DTSTAMP:20260420T033139Z
URL:http://member.gardengrovechamber.com/events/details/ggna-14th-annual-neighborhood-meeting-6162
END:VEVENT

END:VCALENDAR
