BEGIN:VCALENDAR
VERSION:2.0
PRODID:-//ChamberMaster//Event Calendar 2.0//EN
METHOD:PUBLISH
X-PUBLISHED-TTL:P3D
REFRESH-INTERVAL:P3D
CALSCALE:GREGORIAN
BEGIN:VEVENT
DTSTART:20171116T023000Z
DTEND:20171116T050000Z
X-MICROSOFT-CDO-ALLDAYEVENT:FALSE
SUMMARY:Golden Plumb Award
DESCRIPTION:Join Garden Grove Masons as they recognize two Garden Grove Police Department volunteers\, Joan Grosse and Harry Davies\, for their upright public service to the community.\n\n\n\nEveryone is welcome to attend the ceremony however the dinner requires an RSVP. \n\n\n\nGolden Plumb Award\n\nIn architecture\, the plumb is used as a vertical reference of measurement. Symbolically\, it admonishes us to walk uprightly in our several stations before God and Man.
X-ALT-DESC;FMTTYPE=text/html:Join Garden Grove Masons as they recognize two Garden Grove Police Department volunteers\, Joan Grosse and Harry Davies\, for their upright public service to the community.<br />\n<br />\nEveryone is welcome to attend the ceremony however the dinner requires an RSVP.&nbsp\;<br />\n<br />\nGolden Plumb Award<br />\nIn architecture\, the plumb is used as a vertical reference of measurement. Symbolically\, it admonishes us to walk uprightly in our several stations before God and Man.&nbsp\;
LOCATION:Garden Grove Masonic Lodge 11270 Acacia Parkway Garden Grove\, CA
UID:e.1315.6239
SEQUENCE:3
DTSTAMP:20260419T194215Z
URL:http://member.gardengrovechamber.com/events/details/golden-plumb-award-6239
END:VEVENT

END:VCALENDAR
