BEGIN:VCALENDAR
VERSION:2.0
PRODID:-//ChamberMaster//Event Calendar 2.0//EN
METHOD:PUBLISH
X-PUBLISHED-TTL:P3D
REFRESH-INTERVAL:P3D
CALSCALE:GREGORIAN
BEGIN:VEVENT
DTSTART;VALUE=DATE:20130508
DTEND;VALUE=DATE:20130509
TRANSP:TRANSPARENT
X-MICROSOFT-CDO-ALLDAYEVENT:TRUE
SUMMARY:Golf Tournament
DESCRIPTION:More Info. to come
X-ALT-DESC;FMTTYPE=text/html:More Info. to come
LOCATION:
UID:e.1315.866
SEQUENCE:3
DTSTAMP:20260425T134437Z
URL:http://member.gardengrovechamber.com/events/details/golf-tournament-05-08-2013-866
END:VEVENT

END:VCALENDAR
