BEGIN:VCALENDAR
VERSION:2.0
PRODID:-//ChamberMaster//Event Calendar 2.0//EN
METHOD:PUBLISH
X-PUBLISHED-TTL:P3D
REFRESH-INTERVAL:P3D
CALSCALE:GREGORIAN
BEGIN:VEVENT
DTSTART:20180215T200000Z
DTEND:20180215T220000Z
X-MICROSOFT-CDO-ALLDAYEVENT:FALSE
SUMMARY:Grand Opening and Ribbon Cutting for Elizabeth Do Team
DESCRIPTION:Join us for a Grand Opening/Ribbon Cutting Ceremony for The Elizabeth Do Team!\n\n\n\nFood and Drinks will be served
X-ALT-DESC;FMTTYPE=text/html:Join us for a Grand Opening/Ribbon Cutting Ceremony for The Elizabeth Do Team!<br />\n<br />\nFood and Drinks will be served&nbsp\;&nbsp\;&nbsp\;&nbsp\;&nbsp\;&nbsp\;&nbsp\;&nbsp\;
LOCATION:The Elizabeth Do Team 10192 Chapman Avenue Garden Grove
UID:e.1315.6269
SEQUENCE:3
DTSTAMP:20260419T150637Z
URL:http://member.gardengrovechamber.com/events/details/grand-opening-and-ribbon-cutting-for-elizabeth-do-team-6269
END:VEVENT

END:VCALENDAR
