BEGIN:VCALENDAR
VERSION:2.0
PRODID:-//ChamberMaster//Event Calendar 2.0//EN
METHOD:PUBLISH
X-PUBLISHED-TTL:P3D
REFRESH-INTERVAL:P3D
CALSCALE:GREGORIAN
BEGIN:VEVENT
DTSTART:20140717T230000Z
DTEND:20140718T030000Z
X-MICROSOFT-CDO-ALLDAYEVENT:FALSE
SUMMARY:Grand Opening for Working Wardrobes Outlet
DESCRIPTION:Join us to welcome and celebrate the Grand Opening and Ribbon Cutting Ceremony for Working Wardrobes Outlet.  There will be door prizes\, appetizers\, beverages\, music and of course shopping!  The Ribbon Cutting Ceremony will take place at 6:30 pm.
X-ALT-DESC;FMTTYPE=text/html:Join us to welcome and celebrate the Grand Opening and Ribbon Cutting Ceremony for Working Wardrobes Outlet. &nbsp\;There will be door prizes\, appetizers\, beverages\, music and of course shopping! &nbsp\;The Ribbon Cutting Ceremony will take place at 6:30 pm.
LOCATION:Working Wardrobes Outlet 12761 Harbor Blvd. Garden Grove\, CA 92840
UID:e.1315.1811
SEQUENCE:3
DTSTAMP:20260424T143704Z
URL:http://member.gardengrovechamber.com/events/details/grand-opening-for-working-wardrobes-outlet-07-17-2014-1811
END:VEVENT

END:VCALENDAR
