BEGIN:VCALENDAR
VERSION:2.0
PRODID:-//ChamberMaster//Event Calendar 2.0//EN
METHOD:PUBLISH
X-PUBLISHED-TTL:P3D
REFRESH-INTERVAL:P3D
CALSCALE:GREGORIAN
BEGIN:VEVENT
DTSTART:20171208T013000Z
DTEND:20171208T023000Z
X-MICROSOFT-CDO-ALLDAYEVENT:FALSE
SUMMARY:Grand Opening/Ribbon Cutting Ceremony - Kumon Math & Reading Center
DESCRIPTION:Join us in welcoming Kumon Math & Reading Center of Garden Grove - West to the Garden Grove Chamber and the Garden Grove Community!\n\n\n\nFrom Kumon:\n\nGive your child an academic advantage at out convenient new Kumon location.\n\n	We're opening a new Kumon Center near you.\n	Now is the perfect time to accelerate your child's math and reading skills. \n	Many Kumon Students are studying above grade level\n\nFree to attend | Light refreshments will be served
X-ALT-DESC;FMTTYPE=text/html:Join us in welcoming Kumon Math &amp\; Reading Center of Garden Grove - West to the Garden Grove Chamber and the Garden Grove Community!<br />\n<br />\nFrom Kumon:<br />\nGive your child an academic advantage at out convenient new Kumon&nbsp\;location.\n<ul>\n	<li>We&#39\;re opening a new Kumon&nbsp\;Center near you.</li>\n	<li>Now is the perfect time to accelerate your child&#39\;s math and reading skills.&nbsp\;</li>\n	<li>Many Kumon&nbsp\;Students are studying above grade level</li>\n</ul>\nFree to attend | Light refreshments will be served
LOCATION:Kumon Math & Reading Center of Garden Grove - West 11891 Valley View Street Garden Grove\, CA 92845
UID:e.1315.6244
SEQUENCE:3
DTSTAMP:20260419T194321Z
URL:http://member.gardengrovechamber.com/events/details/grand-opening-ribbon-cutting-ceremony-kumon-math-reading-center-6244
END:VEVENT

END:VCALENDAR
