BEGIN:VCALENDAR
VERSION:2.0
PRODID:-//ChamberMaster//Event Calendar 2.0//EN
METHOD:PUBLISH
X-PUBLISHED-TTL:P3D
REFRESH-INTERVAL:P3D
CALSCALE:GREGORIAN
BEGIN:VEVENT
DTSTART:20160914T223000Z
DTEND:20160915T010000Z
X-MICROSOFT-CDO-ALLDAYEVENT:FALSE
SUMMARY:Grand ReOpening for Brookdale Valley View
DESCRIPTION:The renovation is finished and Brookdale couldn't be happier with th results. Join in the celebration with a fun-filled event featuring food\, prizes\, entertainment and more. Come by and see what everyone is so excited about.
X-ALT-DESC;FMTTYPE=text/html:The renovation is finished and Brookdale couldn&#39\;t be happier with th results. Join in the celebration with a fun-filled event featuring food\, prizes\, entertainment and more. Come by and see what everyone is so excited about.&nbsp\;<br />\n&nbsp\;&nbsp\;&nbsp\;&nbsp\;&nbsp\;&nbsp\;&nbsp\;&nbsp\;
LOCATION:Brookdale Valley View Assisted Living 5900 Chapman Avenue Garden Grove\, CA 92845
UID:e.1315.5998
SEQUENCE:3
DTSTAMP:20260420T165512Z
URL:http://member.gardengrovechamber.com/events/details/grand-reopening-for-brookdale-valley-view-5998
END:VEVENT

END:VCALENDAR
