BEGIN:VCALENDAR
VERSION:2.0
PRODID:-//ChamberMaster//Event Calendar 2.0//EN
METHOD:PUBLISH
X-PUBLISHED-TTL:P3D
REFRESH-INTERVAL:P3D
CALSCALE:GREGORIAN
BEGIN:VEVENT
DTSTART:20170512T003000Z
DTEND:20170512T040000Z
X-MICROSOFT-CDO-ALLDAYEVENT:FALSE
SUMMARY:H.O.P.E. OC Celebrates 20 Years
DESCRIPTION:The mission of H.O.P.E is to provide a myriad of support services to abandoned or abused women and children from disadvantaged families.\n\nCome Celebrate 20 years with us!
X-ALT-DESC;FMTTYPE=text/html:<span style="font-size:14px\;"><span style="font-family:arial\;">The mission of H.O.P.E is to provide a myriad of support services to abandoned or abused women and children from disadvantaged families.<br />\nCome Celebrate 20 years with us!</span></span>
LOCATION:Great Wolf Lodge 12681 Harbor Blvd.\, Garden Grove\, CA 92840
UID:e.1315.6112
SEQUENCE:3
DTSTAMP:20260420T044513Z
URL:http://member.gardengrovechamber.com/events/details/h-o-p-e-oc-celebrates-20-years-6112
END:VEVENT

END:VCALENDAR
