BEGIN:VCALENDAR
VERSION:2.0
PRODID:-//ChamberMaster//Event Calendar 2.0//EN
METHOD:PUBLISH
X-PUBLISHED-TTL:P3D
REFRESH-INTERVAL:P3D
CALSCALE:GREGORIAN
BEGIN:VEVENT
DTSTART;VALUE=DATE:20141031
DTEND;VALUE=DATE:20141101
TRANSP:TRANSPARENT
X-MICROSOFT-CDO-ALLDAYEVENT:TRUE
SUMMARY:Happy Halloween!!!
DESCRIPTION:Have a safe Halloween!
X-ALT-DESC;FMTTYPE=text/html:<br />\n<span style="font-size:22px\;"><strong><em>Have a safe Halloween!</em></strong></span>
LOCATION:
UID:e.1315.2234
SEQUENCE:3
DTSTAMP:20260424T102857Z
URL:http://member.gardengrovechamber.com/events/details/happy-halloween-10-31-2014-2234
END:VEVENT

END:VCALENDAR
