BEGIN:VCALENDAR
VERSION:2.0
PRODID:-//ChamberMaster//Event Calendar 2.0//EN
METHOD:PUBLISH
X-PUBLISHED-TTL:P3D
REFRESH-INTERVAL:P3D
CALSCALE:GREGORIAN
BEGIN:VEVENT
DTSTART:20180216T013000Z
DTEND:20180216T023000Z
X-MICROSOFT-CDO-ALLDAYEVENT:FALSE
SUMMARY:Heart Health Overview Q & A
DESCRIPTION:Brookdale Garden Grove Presents GeissMed\n\n\n\nHeart Health Overview Q & A\n\nThey will be here answering & discussing heart topics\n\n\n\nLight refreshments will be available\n\n\n\nYou are invited to come meet the team of GeissMed\, a mobile senior house call doctor group.\n\n\n\nBrookdale Garden Grove offers Assistant living & secured Memory Care. Come take a tour of our community!\n\n\n\nWhat Services does GeissMed provide?\n\nAll of the regular primary care services you would receive in a traditional  doctor's office. The only difference is...We come to you! We provide health at your community and/or home.\n\n\n\nGeissMed Bills services to your insurance\n\nWe accept Original Medicare\, PPO\, and Medicare Advantage HMO.\n\nFor more information on Medicare Advantage HMO please call Jennifer Baldwin (949) 338-7633
X-ALT-DESC;FMTTYPE=text/html:Brookdale&nbsp\;Garden Grove Presents GeissMed<br />\n<br />\nHeart Health Overview&nbsp\;Q &amp\; A<br />\nThey will be here answering &amp\; discussing heart topics<br />\n<br />\nLight refreshments will be available<br />\n<br />\nYou are invited to come meet the team of GeissMed\, a mobile senior house call doctor group.<br />\n<br />\n<strong>Brookdale&nbsp\;Garden Grove offers Assistant living &amp\; secured Memory Care. Come take a tour of our community!<br />\n<br />\nWhat Services does GeissMed&nbsp\;provide?</strong><br />\nAll of the regular primary care services you would receive in a traditional&nbsp\; doctor&#39\;s&nbsp\;office. The only difference is...We come to you! We provide health at your community and/or home.<br />\n<br />\n<b>GeissMed&nbsp\;Bills services to your insurance<br />\nWe accept Original Medicare\, PPO\, and Medicare Advantage HMO.</b><br />\nFor more information on Medicare Advantage HMO please call Jennifer Baldwin (949) 338-7633
LOCATION:Brookdale Garden Grove 10200 Chapman Avenue Garden Grove\, CA 92840
UID:e.1315.6270
SEQUENCE:3
DTSTAMP:20260419T164541Z
URL:http://member.gardengrovechamber.com/events/details/heart-health-overview-q-a-6270
END:VEVENT

END:VCALENDAR
