BEGIN:VCALENDAR
VERSION:2.0
PRODID:-//ChamberMaster//Event Calendar 2.0//EN
METHOD:PUBLISH
X-PUBLISHED-TTL:P3D
REFRESH-INTERVAL:P3D
CALSCALE:GREGORIAN
BEGIN:VEVENT
DTSTART:20140913T180000Z
DTEND:20140914T030000Z
X-MICROSOFT-CDO-ALLDAYEVENT:FALSE
SUMMARY:Henry's Bar and Grill 50 Year Anniversary Celebration!!!
DESCRIPTION:Come celebrate Henry's Bar and Grill 50 Year Anniversary Bash and Art Contest. BBQ\, DJ\, beers and art.  \n\n\n\nThe 1st Place Winner of Art Contest gets to have their artwork used for the 2015 Henry's T-Shirt.  Pabst Blue Ribbon and Henry's Bar and Grill must be included your artwork in order to count towards contest.  All artwork submissions must be turned in by Friday\, September 12\, 2014 before closing time.
X-ALT-DESC;FMTTYPE=text/html:Come celebrate <strong><em>Henry&#39\;s Bar and Grill</em></strong>&nbsp\;50 Year Anniversary Bash and Art Contest. BBQ\, DJ\, beers and art. &nbsp\;<br />\n<br />\nThe<strong>&nbsp\;</strong><strong>1st</strong><strong> Place Winner</strong> of Art Contest gets to have their artwork used for the 2015 Henry&#39\;s T-Shirt. &nbsp\;Pabst Blue Ribbon and Henry&#39\;s Bar and Grill must be included your artwork in order to count towards contest. &nbsp\;All artwork submissions must be turned in by Friday\, September 12\, 2014 before closing time.
LOCATION:Henry's Bar and Grill 10549 Stanford Avenue Garden Grove\, CA 92840
UID:e.1315.1704
SEQUENCE:3
DTSTAMP:20260424T114926Z
URL:http://member.gardengrovechamber.com/events/details/henry-s-bar-and-grill-50-year-anniversary-celebration-09-13-2014-1704
END:VEVENT

END:VCALENDAR
