BEGIN:VCALENDAR
VERSION:2.0
PRODID:-//ChamberMaster//Event Calendar 2.0//EN
METHOD:PUBLISH
X-PUBLISHED-TTL:P3D
REFRESH-INTERVAL:P3D
CALSCALE:GREGORIAN
BEGIN:VEVENT
DTSTART:20171214T181500Z
DTEND:20171214T200000Z
X-MICROSOFT-CDO-ALLDAYEVENT:FALSE
SUMMARY:HomeTown Buffet Grand Opening/Ribbon Cutting
DESCRIPTION:Join us for a Grand Opening & Ribbon Cutting Ceremony at HomeTown Buffet!\n\n\n\nHomeTown Buffet has undergone some major changes. Please join us on Thursday\, December 14th\, as they showcase the freshly remodeled restaurant. Light refreshments will be served.
X-ALT-DESC;FMTTYPE=text/html:Join us for a Grand Opening &amp\; Ribbon Cutting Ceremony at HomeTown Buffet!<br />\n<br />\nHomeTown Buffet has undergone some major changes. Please join us on Thursday\, December 14th\, as they showcase the freshly remodeled restaurant. Light refreshments will be served.&nbsp\;
LOCATION:HomeTown Buffet 9635 Chapman Avenue Garden Grove\, CA 92841
UID:e.1315.6250
SEQUENCE:3
DTSTAMP:20260419T181937Z
URL:http://member.gardengrovechamber.com/events/details/hometown-buffet-grand-opening-ribbon-cutting-6250
END:VEVENT

END:VCALENDAR
